BEGIN:VCALENDAR
VERSION:2.0
PRODID:icalendar-ruby
CALSCALE:GREGORIAN
METHOD:PUBLISH
BEGIN:VTIMEZONE
TZID:Australia/Brisbane
BEGIN:STANDARD
DTSTART:19920301T020000
TZOFFSETFROM:+1100
TZOFFSETTO:+1000
TZNAME:AEST
END:STANDARD
END:VTIMEZONE
BEGIN:VEVENT
DTSTAMP:20210227T011414Z
UID:inspection_935587
DTSTART;TZID=Australia/Brisbane:20210301T100000
DTEND;TZID=Australia/Brisbane:20210301T101500
CLASS:PUBLIC
CREATED:20210226T154654
DESCRIPTION: 
LAST-MODIFIED:20210226T154654
LOCATION:4 / 5 Norwood Street\, TOOWONG QLD 4066\, Australia
SUMMARY:4 / 5 Norwood Street\,  Inspection
URL:http://activerealestate.com.au
END:VEVENT
END:VCALENDAR
