BEGIN:VCALENDAR
VERSION:2.0
PRODID:icalendar-ruby
CALSCALE:GREGORIAN
METHOD:PUBLISH
BEGIN:VTIMEZONE
TZID:Australia/Brisbane
BEGIN:STANDARD
DTSTART:19920301T020000
TZOFFSETFROM:+1100
TZOFFSETTO:+1000
TZNAME:AEST
END:STANDARD
END:VTIMEZONE
BEGIN:VEVENT
DTSTAMP:20210227T011244Z
UID:inspection_932301
DTSTART;TZID=Australia/Brisbane:20210227T110000
DTEND;TZID=Australia/Brisbane:20210227T113000
CLASS:PUBLIC
CREATED:20210223T124353
DESCRIPTION: 
LAST-MODIFIED:20210223T124353
LOCATION:55 Orchard Terrace\, ST LUCIA QLD 4067\, Australia
SUMMARY:55 Orchard Terrace\,  Inspection
URL:http://activerealestate.com.au
END:VEVENT
END:VCALENDAR
