BEGIN:VCALENDAR
VERSION:2.0
PRODID:icalendar-ruby
CALSCALE:GREGORIAN
METHOD:PUBLISH
BEGIN:VTIMEZONE
TZID:Australia/Brisbane
BEGIN:STANDARD
DTSTART:19920301T020000
TZOFFSETFROM:+1100
TZOFFSETTO:+1000
TZNAME:AEST
END:STANDARD
END:VTIMEZONE
BEGIN:VEVENT
DTSTAMP:20210227T011355Z
UID:inspection_931591
DTSTART;TZID=Australia/Brisbane:20210227T112000
DTEND;TZID=Australia/Brisbane:20210227T113500
CLASS:PUBLIC
CREATED:20210222T153945
DESCRIPTION: 
LAST-MODIFIED:20210222T153945
LOCATION:4 / 50 Mitre Street\, ST LUCIA QLD 4067\, Australia
SUMMARY:4 / 50 Mitre Street\,  Inspection
URL:http://activerealestate.com.au
END:VEVENT
END:VCALENDAR
